BEGIN:VCALENDAR
VERSION:2.0
PRODID:spatie/icalendar-generator
DESCRIPTION:Veranstaltungen von Dorfkalender Dirmingen
X-WR-CALDESC:Veranstaltungen von Dorfkalender Dirmingen
REFRESH-INTERVAL;VALUE=DURATION:PT1440M
X-PUBLISHED-TTL:PT1440M
BEGIN:VTIMEZONE
TZID:Etc/GMT-1
BEGIN:STANDARD
DTSTART:20250819T110000Z
TZOFFSETFROM:+0100
TZOFFSETTO:+0100
END:STANDARD
END:VTIMEZONE
BEGIN:VTIMEZONE
TZID:UTC
BEGIN:STANDARD
DTSTART:20250725T090620Z
TZOFFSETFROM:+0000
TZOFFSETTO:+0000
END:STANDARD
END:VTIMEZONE
BEGIN:VEVENT
UID:14-11
DTSTAMP:20260421T090620Z
SUMMARY:Kreis-Imkertag im Freizeitzentrum Finkenrech
LOCATION:Musikpicknick Finkenrech  Freizeitzentrum Finkenrech  Tholeyerstra
 ße Dirmingen Saarland 66571
ORGANIZER;CN=Frank Klein:MAILTO:kleinfranki01@gmail.com
DTSTART;TZID=Etc/GMT-1:20260516T110000
DTEND;TZID=Etc/GMT-1:20260516T180000
X-ALT-DESC;FMTTYPE=TEXT/HTML:Freizeitzentrum Finkenrech Tholeyer Straße\,
  66571 Eppelborn Aktionstag von den Kreis-Imkern des Landkreises Neunkir
 chen mit einem bunten Programm und um die Welt der Bienen Samstag\, 16. M
 ai 2026\, von 11 bis 18 Uhr Die Kreis-Imker des Landkreises Neunkirchen bi
 eten auf Finkenrech ein buntes Programm rund um die Welt der Bienen für 
 große und kleine Naturfreunde. Neben Info-Ständen und Honigverkostung la
 den auch Mitmachaktionen&amp;hellip\;
CATEGORIES:General
URL;VALUE=URI:https://dorfkalender-dirmingen.de/mc-events/kreis-imkertag-im
 -freizeitzentrum-finkenrech/
METHOD:PUBLISH
END:VEVENT
END:VCALENDAR