BEGIN:VCALENDAR
VERSION:2.0
PRODID:spatie/icalendar-generator
DESCRIPTION:Veranstaltungen von Dorfkalender Dirmingen
X-WR-CALDESC:Veranstaltungen von Dorfkalender Dirmingen
REFRESH-INTERVAL;VALUE=DURATION:PT1440M
X-PUBLISHED-TTL:PT1440M
BEGIN:VTIMEZONE
TZID:Etc/GMT-1
BEGIN:STANDARD
DTSTART:20251101T183000Z
TZOFFSETFROM:+0100
TZOFFSETTO:+0100
END:STANDARD
END:VTIMEZONE
BEGIN:VTIMEZONE
TZID:UTC
BEGIN:STANDARD
DTSTART:20250725T090031Z
TZOFFSETFROM:+0000
TZOFFSETTO:+0000
END:STANDARD
END:VTIMEZONE
BEGIN:VEVENT
UID:18-15
DTSTAMP:20260421T090031Z
SUMMARY:Musikpicknick Finkenrech
LOCATION:Musikpicknick Finkenrech Freizeitzentrum Finkenrech Tholeyerstraß
 e Dirmingen Saarland 66571
ORGANIZER;CN=Frank Klein:MAILTO:kleinfranki01@gmail.com
DTSTART;TZID=Etc/GMT-1:20260729T183000
DTEND;TZID=Etc/GMT-1:20260729T220000
X-ALT-DESC;FMTTYPE=TEXT/HTML:Gemütliche Akustik-Konzerte im Freizeitzentru
 m Finkenrech. Auf der großen Picknickwiese des Freizeitzentrums Finkenrec
 h spielen Musiker aus der Region in (feier-)abendlicher Stimmung Akustik-K
 onzerte mit aktuellen Songs und Klassikern. Machen Sie es sich auf der Wie
 se rund um die Gartenbühne gemütlich und genießen Sie das Ambiente. Bri
 ngen Sie hierzu gerne eine Decke oder Stühle und Ihren nach Lust&amp;hellip\;
CATEGORIES:General
URL;VALUE=URI:https://dorfkalender-dirmingen.de/mc-events/musikpicknick-fin
 kenrech-4/
METHOD:PUBLISH
END:VEVENT
END:VCALENDAR