BEGIN:VCALENDAR
VERSION:2.0
PRODID:spatie/icalendar-generator
DESCRIPTION:Veranstaltungen von Dorfkalender Dirmingen
X-WR-CALDESC:Veranstaltungen von Dorfkalender Dirmingen
REFRESH-INTERVAL;VALUE=DURATION:PT1440M
X-PUBLISHED-TTL:PT1440M
BEGIN:VTIMEZONE
TZID:Etc/GMT-1
BEGIN:STANDARD
DTSTART:20250909T130000Z
TZOFFSETFROM:+0100
TZOFFSETTO:+0100
END:STANDARD
END:VTIMEZONE
BEGIN:VTIMEZONE
TZID:UTC
BEGIN:STANDARD
DTSTART:20250725T090905Z
TZOFFSETFROM:+0000
TZOFFSETTO:+0000
END:STANDARD
END:VTIMEZONE
BEGIN:VEVENT
UID:95-67
DTSTAMP:20260421T090905Z
SUMMARY:\"Tag der offenen Tür\" - Löschbezirk Dirmingen
LOCATION:Feuerwehrgerätehaus Dirmingen Böllingerstraße  Dirmingen Saarla
 nd 66571
ORGANIZER;CN=Frank Klein:MAILTO:kleinfranki01@gmail.com
DTSTART;TZID=Etc/GMT-1:20260606T130000
DTEND;TZID=Etc/GMT-1:20260606T230000
X-ALT-DESC;FMTTYPE=TEXT/HTML:
CATEGORIES:General
URL;VALUE=URI:https://dorfkalender-dirmingen.de/mc-events/tag-der-offenen-t
 uer-loeschbezirk-dirmingen-3/
METHOD:PUBLISH
END:VEVENT
END:VCALENDAR